BEGIN:VCALENDAR
VERSION:2.0
PRODID:-//Premier Asset Recovery Group, LLC - ECPv6.15.20//NONSGML v1.0//EN
CALSCALE:GREGORIAN
METHOD:PUBLISH
X-ORIGINAL-URL:https://premierarg.com
X-WR-CALDESC:Events for Premier Asset Recovery Group, LLC
REFRESH-INTERVAL;VALUE=DURATION:PT1H
X-Robots-Tag:noindex
X-PUBLISHED-TTL:PT1H
BEGIN:VTIMEZONE
TZID:America/Denver
BEGIN:DAYLIGHT
TZOFFSETFROM:-0700
TZOFFSETTO:-0600
TZNAME:MDT
DTSTART:20240310T090000
END:DAYLIGHT
BEGIN:STANDARD
TZOFFSETFROM:-0600
TZOFFSETTO:-0700
TZNAME:MST
DTSTART:20241103T080000
END:STANDARD
BEGIN:DAYLIGHT
TZOFFSETFROM:-0700
TZOFFSETTO:-0600
TZNAME:MDT
DTSTART:20250309T090000
END:DAYLIGHT
BEGIN:STANDARD
TZOFFSETFROM:-0600
TZOFFSETTO:-0700
TZNAME:MST
DTSTART:20251102T080000
END:STANDARD
BEGIN:DAYLIGHT
TZOFFSETFROM:-0700
TZOFFSETTO:-0600
TZNAME:MDT
DTSTART:20260308T090000
END:DAYLIGHT
BEGIN:STANDARD
TZOFFSETFROM:-0600
TZOFFSETTO:-0700
TZNAME:MST
DTSTART:20261101T080000
END:STANDARD
BEGIN:DAYLIGHT
TZOFFSETFROM:-0700
TZOFFSETTO:-0600
TZNAME:MDT
DTSTART:20270314T090000
END:DAYLIGHT
BEGIN:STANDARD
TZOFFSETFROM:-0600
TZOFFSETTO:-0700
TZNAME:MST
DTSTART:20271107T080000
END:STANDARD
END:VTIMEZONE
BEGIN:VTIMEZONE
TZID:America/Chicago
BEGIN:DAYLIGHT
TZOFFSETFROM:-0600
TZOFFSETTO:-0500
TZNAME:CDT
DTSTART:20240310T080000
END:DAYLIGHT
BEGIN:STANDARD
TZOFFSETFROM:-0500
TZOFFSETTO:-0600
TZNAME:CST
DTSTART:20241103T070000
END:STANDARD
BEGIN:DAYLIGHT
TZOFFSETFROM:-0600
TZOFFSETTO:-0500
TZNAME:CDT
DTSTART:20250309T080000
END:DAYLIGHT
BEGIN:STANDARD
TZOFFSETFROM:-0500
TZOFFSETTO:-0600
TZNAME:CST
DTSTART:20251102T070000
END:STANDARD
BEGIN:DAYLIGHT
TZOFFSETFROM:-0600
TZOFFSETTO:-0500
TZNAME:CDT
DTSTART:20260308T080000
END:DAYLIGHT
BEGIN:STANDARD
TZOFFSETFROM:-0500
TZOFFSETTO:-0600
TZNAME:CST
DTSTART:20261101T070000
END:STANDARD
BEGIN:DAYLIGHT
TZOFFSETFROM:-0600
TZOFFSETTO:-0500
TZNAME:CDT
DTSTART:20270314T080000
END:DAYLIGHT
BEGIN:STANDARD
TZOFFSETFROM:-0500
TZOFFSETTO:-0600
TZNAME:CST
DTSTART:20271107T070000
END:STANDARD
END:VTIMEZONE
BEGIN:VEVENT
DTSTART;TZID=America/Denver:20250618T100000
DTEND;TZID=America/Denver:20250618T100000
DTSTAMP:20260421T172448
CREATED:20250505T150917Z
LAST-MODIFIED:20250611T163259Z
UID:10000005-1750240800-1750240800@premierarg.com
SUMMARY:CNC Exchange High End CNC Machine Auction - Multiple Locations
DESCRIPTION:Online Auction Closing June 18 CNC Machines\n\n\n\n\n\n\n\n\n\n\n\n\n\n\n\nOnline Auction \nCNC Machines and more\n\n\n\n\n\n\n\n\n\n\n\nDate: Wednesday June 18\, 2025\nTime: 10:00 AM CDT\nLocation: Online Bidding at BidSpotter\, Lots at Multiple Locations \n\n\n\n\n\n\n\n\n\n\n\n\n\n\nView Lots and Register\n\n\n\n\n\n\n\n\n\n\n\n\n\n\n\n\n\n\n\n\n\n\n\n\n\n\n\n\n\n\n\n\n\n\n\n\n\n\n\n\n\n\n\n\n\n\n\n\n\n\n\n\n\n\n\n\n\n\n\n\n\n\n\n\n\n\n\n\n\n\n\n\n\n\n\n\n\n\n\n\n\n\n\n\n\n\n\n\n\n\n\n\n\n\n\n\n\n\n\n\n\n\n\n\n\n\n\n\n\n\n\n\n\n\n\n\n\n\n\n\n\n\n\n\n\n\nCNC Lathes \nDMG Gildemeister Sprint 42\nDMG Mori Seiki NTX2000\nOkuma LOC-650 (7″ bore)\nHaas ST-35\nTsugami M08SY\nOkuma V40R\nDoosan V850\n  \nCNC Swiss Type Lathes\nNexturn SA20B Swiss \nTsugami BO205iii\nStar SW-20 \nLNS Bar Feeders\nTornos SAS-16-DC \n1.25″ and 1″ Acmes \nLong Bed Davenports  \n\nCNC Routers \nHaas GR-712\nHaas SR-100\nCMS Area 5-Axis (48″ Z-axis)\nRPT Robotrim 7-Axis Router\nKomo Mach One GT510\nFOM Modus CNC 4-Axis \nBiesse Rover A 1332 \nElumatec SBZ-122\nHolzher Dynestic 510 \nSCM Accord FX-M\nWeeke Optimat BHX-500\nVacuum Pump\n\n\n\n\n\n\n\n\n\n\n\n\n\n\n\n\n\n\n\nVertical Machining Centers \nOkuma MCR-25-B \nHaas VF-2SS 5-Axis\nHaas VF-12 4-Axis\nHaas VF-2 4-Axis\nHaas Super Mini Mill CT40\nLeadwell V80i (80″ X-Axis)\nSNK 5-Axis\nBridgeport VMC1000APC\nOkuma Millac 852V \nBrother S700X1 \n  \nHorizontal Machining Centers \nKiwa KNH-426X\nToyoda FH630SX\nMazak HCN-4000-III\nDaewoo ACE-H50S\nHaas EC-500\nMori Seiki NH-4000 DCG\nOkuma MB-5000 5-Axis \nSummit HTM-4 Horiz Boring Mill  \n\nEDM\, Fabrication\, Grinders\, and more \nAgie CUT 20P Wire EDM\nSodick AD25L Sinker EDM\nOna NX7 Sinker EDM\nSupertec Cylindrical Grinder\nCMS 5-Axis Waterjet \nOkamoto Cylindrical Grinder\n15\,000 lb Hyster Forklift\n\n\n\n\n\n\n\n\n\n\n\n\n\n\n\n\n\n\n\n\n\n\n\n\n\n\n\n\n\n\n\n\n\n\n\n\n\n\n\n\n\n\n\n\n\n\n\n\n\n\n\n\n\n\n\n\n\n\n\n\n\n\n\n\n\n\n\n\n\n\n\n\n\n\n\n\n\n\n\n\n\n\n\n\n\n\n\n\n\n\n\n\n\n\n\n\n\n\n\n\n\n\n\n\n\n\n\n\n\n\n\n\n\n\n\n\n\n\n\n\n\n\n\n\n\n\n\n\n\n\n\n\n\n\n\n\n\n\n\n\n\n\n\n\n\n\n\n\n\n\n\n\n\n\n\n\n\n\n\n\n\n\n\n\n\n\n\n\n\n\n\n\n\n\n\n\n\n\n\nDate: Wednesday June 18\, 2025\nTime: 10:00 AM CDT\nLocation: Online Bidding at BidSpotter\, Lots at Multiple Locations \n\nInspection: By Appointment Only\n\nContact Jared Gray\n312-280-1234 x 606\njared@premierarg.com\n\n\n\n\n\n\n\n\n\n\n\n\n\nView Lots and Register\n\n\n\n\n\n\n\n  \n\n\n\n\n\n\n\n\n\n\n\n\n\n\n\n\n\n\n 
URL:https://premierarg.com/event/cnc-exchange-high-end-cnc-machine-auction-multiple-locations-2/
LOCATION:KS
END:VEVENT
BEGIN:VEVENT
DTSTART;TZID=America/Denver:20250917T100000
DTEND;TZID=America/Denver:20250917T100000
DTSTAMP:20260421T172448
CREATED:20250722T151025Z
LAST-MODIFIED:20250826T171354Z
UID:10000006-1758103200-1758103200@premierarg.com
SUMMARY:CNC Exchange High End CNC Machine Auction - Multiple Locations
DESCRIPTION:Online Auction \nCNC Machines and more\n\n\n\n\n\n\n\n\n\n\n\nDate: Wednesday Sept 17\, 2025\nTime: 10:00 AM CDT\nLocation: Online Bidding at BidSpotter\, Lots at Multiple Locations \nMore Details Coming Soon… \n\nHave a machine you want to include? Contact us at info@premierarg.com\n\n\n\n\n\n\n\n\n\n\n\n\n\n\nView Lots and Register
URL:https://premierarg.com/event/cnc-exchange-high-end-cnc-machine-auction-multiple-locations-3/
LOCATION:KS
ATTACH;FMTTYPE=image/jpeg:https://premierarg.com/wp-content/uploads/2025/07/2025-07-21-09.30.20-Copy.jpg
END:VEVENT
BEGIN:VEVENT
DTSTART;TZID=America/Chicago:20251210T100000
DTEND;TZID=America/Chicago:20251210T100000
DTSTAMP:20260421T172448
CREATED:20251117T201757Z
LAST-MODIFIED:20251117T201849Z
UID:10000007-1765360800-1765360800@premierarg.com
SUMMARY:End of Year CNC Exchange High End CNC Machine Auction - Multiple Locations
DESCRIPTION:Online Auction \nCNC Machines and more\n\n\n\n\n\n\n\n\n\n\n\nDate: Wednesday Dec 10\, 2025\nTime: 10:00 AM CDT\nLocation: Online Bidding at BidSpotter\, Lots at Multiple Locations \nInspection By Appointment Only \nEmail: jared@premierarg.com\n\nHave a machine you want to include? Contact us at info@premierarg.com\n\n\n\n\n\n\n\n\n\n\n\n\n\n\nView Lots and Register
URL:https://premierarg.com/event/end-of-year-cnc-exchange-high-end-cnc-machine-auction-multiple-locations/
LOCATION:KS
ATTACH;FMTTYPE=image/jpeg:https://premierarg.com/wp-content/uploads/2025/11/2.jpg
END:VEVENT
BEGIN:VEVENT
DTSTART;TZID=America/Denver:20260304T100000
DTEND;TZID=America/Denver:20260304T160000
DTSTAMP:20260421T172448
CREATED:20260120T153302Z
LAST-MODIFIED:20260126T143951Z
UID:10000008-1772618400-1772640000@premierarg.com
SUMMARY:Assets of FL Toolholders: a manufacturer that produces custom fixtures\, tools\, gauges\, tool holders\, machine spindles and more.
DESCRIPTION:Mazak Integrex i400\, Mazak QTS-350\, OD and ID Grinders\, CNC Bridgeports\, Inspection Equipment\, Gauges\, Engine Lathes\, and more… Assets of FL Toolholders: a manufacturer that produces custom fixtures\, tools\, gauges\, tool holders\, machine spindles and more. \nTwo Locations \nBidding Opens: February 17\, 2026 @ 9:00 AM \nBidding Closes: March 4\, 2026 @ 10:00 AM \nPublic Inspection: Tuesday\, March 3\, 2026 \nHours; 8:00 to 3:30 PM \n\n\nRegister and Bid Here: https://www.bidspotter.com/en-us/auction-catalogues/premier-asset-recovery-group/catalogue-id-bscprem10078 \n\n\nEmail: Jared@PremierARG.com \nPayment due: Friday March 6\, 2026 \nFinal Removal: Friday\, March 20\, 2026 (NO EXCEPTIONS) \n\n36010 Industrial Rd \n36030 Industrial Rd \nLivonia\, Michigan 48150 \n\n  \nMaribel Owen \nPremier Asset Recovery Group\, LLC \n75 E Palatine Road \nProspect Heights\, IL  60070 \nTel: 312-280-1234 Ext. 608
URL:https://premierarg.com/event/surplus-assets-to-the-continuing-operation-of-marposs-a-worldwide-leader-in-measurement-inspection-and-testing/
LOCATION:KS
ATTACH;FMTTYPE=image/jpeg:https://premierarg.com/wp-content/uploads/2026/01/IMG_1415.jpeg
END:VEVENT
BEGIN:VEVENT
DTSTART;TZID=America/Denver:20260318T100000
DTEND;TZID=America/Denver:20260318T100000
DTSTAMP:20260421T172448
CREATED:20260216T152944Z
LAST-MODIFIED:20260216T153240Z
UID:10000009-1773828000-1773828000@premierarg.com
SUMMARY:CNC Exchange High End CNC Machine Auction - Multiple Locations
DESCRIPTION:Online Auction \nCNC Machines and more\nDMG Mori Seiki\, Miyano\, Okuma\, Mazak\, Haas\, Citizen\, Brother\, Fanuc\, Doosan\, Hwacheon\, Hurco\, Agie\, CMS\, Thermwood and more… \n\n\n\n\n\n\n\n\n\n\n\nDate: Wednesday March 18\, 2025\nTime: 10:00 AM CDT\nLocation: Online Bidding at BidSpotter\, Lots at Multiple Locations \nMore Details Coming Soon… \n\nHave a machine you want to include? Contact us at info@premierarg.com\n\n\n\n\n\n\n\n\n\n\n\n\n\n\nView Lots and Register
URL:https://premierarg.com/event/cnc-exchange-high-end-cnc-machine-auction-multiple-locations-4/
LOCATION:KS
ATTACH;FMTTYPE=image/jpeg:https://premierarg.com/wp-content/uploads/2026/02/IMG_1993.jpeg
END:VEVENT
BEGIN:VEVENT
DTSTART;TZID=America/Chicago:20260603T100000
DTEND;TZID=America/Chicago:20260603T160000
DTSTAMP:20260421T172448
CREATED:20260420T134747Z
LAST-MODIFIED:20260420T141243Z
UID:10000010-1780480800-1780502400@premierarg.com
SUMMARY:Assets of US Machine & Tool: a CNC precision machining & fabrication shop. Haas\, Hurco\, Keyence\, EDMs\, Grinders\, Presses\, Inspection\, and more...
DESCRIPTION:Haas ST-10Y and VF-4SS\, Hurco VM-30i and VM-2\, Keyence XM-5000\, OD and Surface Grinders\, Wire EDMs\, 3-Meter CNC Lathe\, Presses\, Inspection\, Shop Support Equipment and more… \nBidding Opens: Tuesday May 19\, 2026 @ 9:00 AM CT \nBidding Closes: Wednesday June 3\, 2026 @ 10:00 AM CT \nPublic Inspection: Tuesday\, June 2\, 2026 @ 8:00 AM to 3:30 PM CT \n\n\nRegister and Bid Here: https://www.bidspotter.com/en-us/auction-catalogues/premier-asset-recovery-group/catalogue-id-bscprem10080 \n\n\nEmail: Jared@PremierARG.com \nPayment due: Friday June 5\, 2026 \nFinal Removal: Friday\, June 19\, 2026 (NO EXCEPTIONS) \n\n732 Old Salem Rd \nMurfreesboro\, TN 37129
URL:https://premierarg.com/event/assets-of-us-machine-tool-a-cnc-precision-machining-fabrication-shop-haas-hurco-keyence-edms-grinders-and-more/
LOCATION:KS
ATTACH;FMTTYPE=image/avif:https://premierarg.com/wp-content/uploads/2026/04/logo.avif
END:VEVENT
END:VCALENDAR